BEGIN:VCALENDAR
VERSION:2.0
PRODID:-//BIFI -  - Institute for Biocomputation and Physics of Complex Systems - ECPv6.15.11//NONSGML v1.0//EN
CALSCALE:GREGORIAN
METHOD:PUBLISH
X-WR-CALNAME:BIFI -  - Institute for Biocomputation and Physics of Complex Systems
X-ORIGINAL-URL:https://bifi.es
X-WR-CALDESC:Events for BIFI -  - Institute for Biocomputation and Physics of Complex Systems
REFRESH-INTERVAL;VALUE=DURATION:PT1H
X-Robots-Tag:noindex
X-PUBLISHED-TTL:PT1H
BEGIN:VTIMEZONE
TZID:Europe/Madrid
BEGIN:DAYLIGHT
TZOFFSETFROM:+0100
TZOFFSETTO:+0200
TZNAME:CEST
DTSTART:20200329T010000
END:DAYLIGHT
BEGIN:STANDARD
TZOFFSETFROM:+0200
TZOFFSETTO:+0100
TZNAME:CET
DTSTART:20201025T010000
END:STANDARD
BEGIN:DAYLIGHT
TZOFFSETFROM:+0100
TZOFFSETTO:+0200
TZNAME:CEST
DTSTART:20210328T010000
END:DAYLIGHT
BEGIN:STANDARD
TZOFFSETFROM:+0200
TZOFFSETTO:+0100
TZNAME:CET
DTSTART:20211031T010000
END:STANDARD
BEGIN:DAYLIGHT
TZOFFSETFROM:+0100
TZOFFSETTO:+0200
TZNAME:CEST
DTSTART:20220327T010000
END:DAYLIGHT
BEGIN:STANDARD
TZOFFSETFROM:+0200
TZOFFSETTO:+0100
TZNAME:CET
DTSTART:20221030T010000
END:STANDARD
END:VTIMEZONE
BEGIN:VEVENT
DTSTART;TZID=Europe/Madrid:20211203T123000
DTEND;TZID=Europe/Madrid:20211203T143000
DTSTAMP:20260425T172759
CREATED:20211115T100802Z
LAST-MODIFIED:20220124T135315Z
UID:6614-1638534600-1638541800@bifi.es
SUMMARY:BIFI TALK: Dr. Juan Luis Asensio (Instituto de Química Orgánica General\, CSIC\, Madrid)
DESCRIPTION:Title: Glycochemistry and Molecular Recognition: Rational and Combinatorial Approaches \nAbstract: \nCarbohydrates participate in a large variety of molecular recognition processes of biological relevance\, involving both proteins receptors\, enzymes and nucleic acid fragments. Understanding how these later bio-molecules interact with glycosides represents a fundamental issue in chemical biology with far reaching implications in fundamental biology\, biotechnology or drug design. On the other hand\, the acknowledgment of the relevance of glycoconjugates in biology has run parallel to the development of new chemical methods for glycosidic bond formation. Thus\, the last few decades have witnessed a burgeoning progress in the area of glycosyl donor engineering\, with a more recent focus on the understanding of glycosylation mechanisms. As a part of an ongoing project focused on glycochemisty we\nhave analyzed different aspects of the association of glycosides to both nulcleic acids and proteins. In addition\, key mechanistic features of glycosylation reactions\, both in enzymatic nd chemical contexts\, have been dissected. From a methodological persepective our approach is pluridisciplinar and includes NMR\, molecular modeling\, organic synthesis\, and a variety of chemical strategies. The obtained results\, together with their implications for the design and synthesis of improved carbohydrate-based ligands\, will be discussed. \njuan-l-asensio_bifitalks2021 \nFRIDAY\, 3rd DECEMBER 2021\, 12:30\nONLINE: ZOOM Seminar\nLink https://us02web.zoom.us/j/86384158190
URL:https://bifi.es/schedule/dr-juan-luis-asensio-instituto-de-quimica-organica-general-csic-madrid/
CATEGORIES:Events
END:VEVENT
END:VCALENDAR