BEGIN:VCALENDAR
VERSION:2.0
PRODID:-//BIFI -  - Institute for Biocomputation and Physics of Complex Systems - ECPv6.15.11//NONSGML v1.0//EN
CALSCALE:GREGORIAN
METHOD:PUBLISH
X-ORIGINAL-URL:https://bifi.es
X-WR-CALDESC:Events for BIFI -  - Institute for Biocomputation and Physics of Complex Systems
REFRESH-INTERVAL;VALUE=DURATION:PT1H
X-Robots-Tag:noindex
X-PUBLISHED-TTL:PT1H
BEGIN:VTIMEZONE
TZID:Europe/Madrid
BEGIN:DAYLIGHT
TZOFFSETFROM:+0100
TZOFFSETTO:+0200
TZNAME:CEST
DTSTART:20210328T010000
END:DAYLIGHT
BEGIN:STANDARD
TZOFFSETFROM:+0200
TZOFFSETTO:+0100
TZNAME:CET
DTSTART:20211031T010000
END:STANDARD
BEGIN:DAYLIGHT
TZOFFSETFROM:+0100
TZOFFSETTO:+0200
TZNAME:CEST
DTSTART:20220327T010000
END:DAYLIGHT
BEGIN:STANDARD
TZOFFSETFROM:+0200
TZOFFSETTO:+0100
TZNAME:CET
DTSTART:20221030T010000
END:STANDARD
BEGIN:DAYLIGHT
TZOFFSETFROM:+0100
TZOFFSETTO:+0200
TZNAME:CEST
DTSTART:20230326T010000
END:DAYLIGHT
BEGIN:STANDARD
TZOFFSETFROM:+0200
TZOFFSETTO:+0100
TZNAME:CET
DTSTART:20231029T010000
END:STANDARD
END:VTIMEZONE
BEGIN:VEVENT
DTSTART;TZID=Europe/Madrid:20220404T083000
DTEND;TZID=Europe/Madrid:20220404T150000
DTSTAMP:20260425T130647
CREATED:20220330T072604Z
LAST-MODIFIED:20220330T072604Z
UID:6784-1649061000-1649084400@bifi.es
SUMMARY:Jornada de Bioingeniería y Biotecnología
DESCRIPTION:El próximo lunes 4 de abril se celebrará la Jornada de Bioingeniería y Biotecnología\, organizada por los Institutos Universitarios de Investigación (IUIs) de la Universidad de Zaragoza. \nEl encuentro acomete un doble objetivo: \n1) difundir e intercambiar el significativo conocimiento que se genera en la investigación de los institutos en el ámbito de la bioingeniería y biotecnología; \n2) generar nuevas colaboraciones multidisciplinares entre distintos grupos con experiencia y capacidades diferentes. \nLa jornada se celebrará en el Salón de Actos del Edificio I+D del Campus Río Ebro y se podrá seguir presencialmente u online\, registrándose previamente en el siguiente enlace Zoom: \nhttps://zoom.us/webinar/register/WN_gYFdy2gDTcKK2U1LgIib6A (tras la inscripción\, se recibirá un correo electrónico de confirmación con información para unirse al seminario web). \nEl programa de la Jornada puede consultarse jornada-bioingeniera-y-biotecnologa_20200404
URL:https://bifi.es/schedule/jornada-de-bioingenieria-y-biotecnologia/
CATEGORIES:Events
END:VEVENT
END:VCALENDAR