BEGIN:VCALENDAR
VERSION:2.0
PRODID:-//BIFI -  - Institute for Biocomputation and Physics of Complex Systems - ECPv6.15.11//NONSGML v1.0//EN
CALSCALE:GREGORIAN
METHOD:PUBLISH
X-WR-CALNAME:BIFI -  - Institute for Biocomputation and Physics of Complex Systems
X-ORIGINAL-URL:https://bifi.es
X-WR-CALDESC:Events for BIFI -  - Institute for Biocomputation and Physics of Complex Systems
REFRESH-INTERVAL;VALUE=DURATION:PT1H
X-Robots-Tag:noindex
X-PUBLISHED-TTL:PT1H
BEGIN:VTIMEZONE
TZID:Europe/Madrid
BEGIN:DAYLIGHT
TZOFFSETFROM:+0100
TZOFFSETTO:+0200
TZNAME:CEST
DTSTART:20210328T010000
END:DAYLIGHT
BEGIN:STANDARD
TZOFFSETFROM:+0200
TZOFFSETTO:+0100
TZNAME:CET
DTSTART:20211031T010000
END:STANDARD
BEGIN:DAYLIGHT
TZOFFSETFROM:+0100
TZOFFSETTO:+0200
TZNAME:CEST
DTSTART:20220327T010000
END:DAYLIGHT
BEGIN:STANDARD
TZOFFSETFROM:+0200
TZOFFSETTO:+0100
TZNAME:CET
DTSTART:20221030T010000
END:STANDARD
BEGIN:DAYLIGHT
TZOFFSETFROM:+0100
TZOFFSETTO:+0200
TZNAME:CEST
DTSTART:20230326T010000
END:DAYLIGHT
BEGIN:STANDARD
TZOFFSETFROM:+0200
TZOFFSETTO:+0100
TZNAME:CET
DTSTART:20231029T010000
END:STANDARD
END:VTIMEZONE
BEGIN:VEVENT
DTSTART;TZID=Europe/Madrid:20220607T090000
DTEND;TZID=Europe/Madrid:20220609T180000
DTSTAMP:20260423T061953
CREATED:20211027T125134Z
LAST-MODIFIED:20220503T114702Z
UID:6547-1654592400-1654797600@bifi.es
SUMMARY:The International BIFI 2022 Conference
DESCRIPTION:The  International BIFI 2022 Conference will take place online from February 7th to 9th\, 2022. On this occasion the Conference will be focused on the Science of Covid-19: from molecular drug design to data-driven epidemiological models.  \nIn order to ease attendance\, this year’s conference will be entirely hosted online. \nEvery two years the Institute organizes an international conference around its research areas. This is the case of 2022 when we will be holding the BIFI 2022 International Conference which will focus around what we could call the Science of Covid-19. As we well know at this time\, the subject is highly topical and possibly expected\, but given the massive impact to our societies and its relation to the core activities of our institute\, it is also natural choice for 2022. We hope this occasion will serve to consolidate knowledge on the topic\, bring new insights and tools to it\, and also to fill some gaps and open new research paths. The Conference aims at providing a forum to discuss the latest advances and insights in the study of this pandemic. All topics that fit within the science of COVID-19 from a complexity\, biological or interdisciplinary point of view are welcome. \nOn the website of the event (http://bifi22.bifi.es/) to be announced all the necessary information including the access link in due time.
URL:https://bifi.es/schedule/the-international-bifi-2022-conference/
LOCATION:Online
CATEGORIES:Congresses
END:VEVENT
END:VCALENDAR