BEGIN:VCALENDAR
VERSION:2.0
PRODID:-//BIFI -  - Institute for Biocomputation and Physics of Complex Systems - ECPv6.15.11//NONSGML v1.0//EN
CALSCALE:GREGORIAN
METHOD:PUBLISH
X-WR-CALNAME:BIFI -  - Institute for Biocomputation and Physics of Complex Systems
X-ORIGINAL-URL:https://bifi.es
X-WR-CALDESC:Events for BIFI -  - Institute for Biocomputation and Physics of Complex Systems
REFRESH-INTERVAL;VALUE=DURATION:PT1H
X-Robots-Tag:noindex
X-PUBLISHED-TTL:PT1H
BEGIN:VTIMEZONE
TZID:Europe/Madrid
BEGIN:DAYLIGHT
TZOFFSETFROM:+0100
TZOFFSETTO:+0200
TZNAME:CEST
DTSTART:20210328T010000
END:DAYLIGHT
BEGIN:STANDARD
TZOFFSETFROM:+0200
TZOFFSETTO:+0100
TZNAME:CET
DTSTART:20211031T010000
END:STANDARD
BEGIN:DAYLIGHT
TZOFFSETFROM:+0100
TZOFFSETTO:+0200
TZNAME:CEST
DTSTART:20220327T010000
END:DAYLIGHT
BEGIN:STANDARD
TZOFFSETFROM:+0200
TZOFFSETTO:+0100
TZNAME:CET
DTSTART:20221030T010000
END:STANDARD
BEGIN:DAYLIGHT
TZOFFSETFROM:+0100
TZOFFSETTO:+0200
TZNAME:CEST
DTSTART:20230326T010000
END:DAYLIGHT
BEGIN:STANDARD
TZOFFSETFROM:+0200
TZOFFSETTO:+0100
TZNAME:CET
DTSTART:20231029T010000
END:STANDARD
END:VTIMEZONE
BEGIN:VEVENT
DTSTART;TZID=Europe/Madrid:20221123T100000
DTEND;TZID=Europe/Madrid:20221123T120000
DTSTAMP:20260423T001803
CREATED:20221118T090141Z
LAST-MODIFIED:20221118T090956Z
UID:7134-1669197600-1669204800@bifi.es
SUMMARY:I CYCLE OF YOUNG RESEARCHER SEMINARS  IN THE BIO AREA: Mario Tovar Calonge
DESCRIPTION:“Forecasting perturbations on mycobacterium tuberculosis transmission with mathematical models: From COVID19-TB syndemics to the evaluation of new vaccines”. MARIO TOVAR CALONGE \nWednesday\, 23 November 2022 \n10:00-12:00 h \nSalón de Actos Edificio I+D
URL:https://bifi.es/schedule/i-ciclo-de-seminarios-jovenes-investigadores-en-el-area-bio-mario-tovar-calonge/
LOCATION:Salon de actos del edificio I+D
CATEGORIES:Events
END:VEVENT
END:VCALENDAR