BEGIN:VCALENDAR
VERSION:2.0
PRODID:-//BIFI -  - Institute for Biocomputation and Physics of Complex Systems - ECPv6.15.11//NONSGML v1.0//EN
CALSCALE:GREGORIAN
METHOD:PUBLISH
X-WR-CALNAME:BIFI -  - Institute for Biocomputation and Physics of Complex Systems
X-ORIGINAL-URL:https://bifi.es
X-WR-CALDESC:Events for BIFI -  - Institute for Biocomputation and Physics of Complex Systems
REFRESH-INTERVAL;VALUE=DURATION:PT1H
X-Robots-Tag:noindex
X-PUBLISHED-TTL:PT1H
BEGIN:VTIMEZONE
TZID:Europe/Madrid
BEGIN:DAYLIGHT
TZOFFSETFROM:+0100
TZOFFSETTO:+0200
TZNAME:CEST
DTSTART:20220327T010000
END:DAYLIGHT
BEGIN:STANDARD
TZOFFSETFROM:+0200
TZOFFSETTO:+0100
TZNAME:CET
DTSTART:20221030T010000
END:STANDARD
BEGIN:DAYLIGHT
TZOFFSETFROM:+0100
TZOFFSETTO:+0200
TZNAME:CEST
DTSTART:20230326T010000
END:DAYLIGHT
BEGIN:STANDARD
TZOFFSETFROM:+0200
TZOFFSETTO:+0100
TZNAME:CET
DTSTART:20231029T010000
END:STANDARD
BEGIN:DAYLIGHT
TZOFFSETFROM:+0100
TZOFFSETTO:+0200
TZNAME:CEST
DTSTART:20240331T010000
END:DAYLIGHT
BEGIN:STANDARD
TZOFFSETFROM:+0200
TZOFFSETTO:+0100
TZNAME:CET
DTSTART:20241027T010000
END:STANDARD
END:VTIMEZONE
BEGIN:VEVENT
DTSTART;TZID=Europe/Madrid:20231009T120000
DTEND;TZID=Europe/Madrid:20231009T143000
DTSTAMP:20260422T112103
CREATED:20230926T074307Z
LAST-MODIFIED:20230926T074307Z
UID:7463-1696852800-1696861800@bifi.es
SUMMARY:TALK: Prof.Derek Bowie. McGill University\, Montreal\, Canada
DESCRIPTION:Re-imagining the glutamatergic synapse: From structure-function to neurological disease\nProfessor Derek Bowie. Department of Pharmacology & Therapeutics\, McGill University\, Montreal\, Canada \nAbstract:\nThe Bowie Lab uses a combination of techniques to study ionotropic glutamate receptors (iGluRs)\, GABA-A receptors and more recently\, sodium and potassium channels. All ion-channel families are widespread in the vertebrate brain and fulfill many important roles in healthy individuals as well as being implicated in disease states associated with postnatal development (e.g. autism\, schizophrenia)\, cerebral insult (e.g. stroke\, epilepsy) and aging disorders (e.g. Alzheimer’s disease\, Parkinsonism). We are looking at iGluRs\, GABA-A receptors\, Na+ and K+ channels at two inter-related levels. In molecular terms\, we are examining the events that occur when each ion-channel family is activated with the aim of developing novel therapeutic compounds. At the cellular level\, we are studying the role they fulfill in shaping the behaviour of neuronal circuits and how these processes may be corrected in disease states. The talk will focus on recent work from the lab on a subclass of iGluRs\, called AMPA receptors. \nBiosketch:\nDr. Derek Bowie is a Professor of Pharmacology & Therapeutics at McGill University and co-Director of the Cell Information Systems. The Bowie lab focuses on several major ion-channel families with a special emphasis on their role in neurodevelopmental disorders. Dr. Bowie earned his Ph.D. at the University of London after completing his undergraduate degree at Strathclyde University in Scotland. He then carried out postdoctoral training in France (Université Louis Pasteur)\, Switzerland (Universität Zürich) and the US (National Institutes of Health) before taking a faculty position at Emory University (Atlanta\, GA\, USA). He started his research program at McGill in 2002 and is currently a Full Professor. He was recently a Visiting Professor in Japan (Natl. Institutes for Physiological Sciences). He is the recipient of the Canada Research Chair award in Receptor Pharmacology and has served on numerous national and international advisory panels including IBRO. He also serves/has served on several editorial boards including the Journal of Physiology\, Current Neuropharmacology\, Channels\, Current Opinion in Physiology and Frontiers in Neural Circuits. In 2022\, he co-founded the McGill spin-off company\, Nospharma\, to develop and bring to market therapeutics for the treatment of rare neurological disorders. \n  \n9th October\, 2023 \nSalón de Actos\, Edificio I+D \n12 h
URL:https://bifi.es/schedule/talk-prof-derek-bowie-mcgill-university-montreal-canada/
LOCATION:Edificio Institutos I+D\, Mariano Esquillor\, 50018 Zaragoza\, Zaragoza\, Zaragoza\, 50018\, España
CATEGORIES:Events
END:VEVENT
END:VCALENDAR