BEGIN:VCALENDAR
VERSION:2.0
PRODID:-//BIFI -  - Institute for Biocomputation and Physics of Complex Systems - ECPv6.15.11//NONSGML v1.0//EN
CALSCALE:GREGORIAN
METHOD:PUBLISH
X-ORIGINAL-URL:https://bifi.es
X-WR-CALDESC:Events for BIFI -  - Institute for Biocomputation and Physics of Complex Systems
REFRESH-INTERVAL;VALUE=DURATION:PT1H
X-Robots-Tag:noindex
X-PUBLISHED-TTL:PT1H
BEGIN:VTIMEZONE
TZID:Europe/Madrid
BEGIN:DAYLIGHT
TZOFFSETFROM:+0100
TZOFFSETTO:+0200
TZNAME:CEST
DTSTART:20230326T010000
END:DAYLIGHT
BEGIN:STANDARD
TZOFFSETFROM:+0200
TZOFFSETTO:+0100
TZNAME:CET
DTSTART:20231029T010000
END:STANDARD
BEGIN:DAYLIGHT
TZOFFSETFROM:+0100
TZOFFSETTO:+0200
TZNAME:CEST
DTSTART:20240331T010000
END:DAYLIGHT
BEGIN:STANDARD
TZOFFSETFROM:+0200
TZOFFSETTO:+0100
TZNAME:CET
DTSTART:20241027T010000
END:STANDARD
BEGIN:DAYLIGHT
TZOFFSETFROM:+0100
TZOFFSETTO:+0200
TZNAME:CEST
DTSTART:20250330T010000
END:DAYLIGHT
BEGIN:STANDARD
TZOFFSETFROM:+0200
TZOFFSETTO:+0100
TZNAME:CET
DTSTART:20251026T010000
END:STANDARD
END:VTIMEZONE
BEGIN:VEVENT
DTSTART;TZID=Europe/Madrid:20240927T123000
DTEND;TZID=Europe/Madrid:20240927T143000
DTSTAMP:20260421T211210
CREATED:20240912T081614Z
LAST-MODIFIED:20240912T081647Z
UID:8294-1727440200-1727447400@bifi.es
SUMMARY:BIFI TALK: José Manuel Martín García\, Instituto Blas Cabrera\, CSIC\, Madrid
DESCRIPTION:BIFI TALK: José Manuel Martín García\, del Instituto Blas Cabrera\, CSIC\, Madrid \nTitle: Time-resolved structural studies with serial crystallography: A new frontier in biomedical research. \nAbstract \nStructural biology\, especially X-ray crystallography\, has significantly advanced our understanding of diseases by revealing the 3D structures of proteins. However\, traditional X-ray crystallography encounters challenges\, such as difficulties in obtaining suitable protein crystals and studying protein dynamics. X-ray free-electron lasers (XFELs) have transformed this field with their bright and brief X-ray pulses\, allowing for high-resolution structures of radiation-sensitive and hard-to-crystallize proteins. With XFELs\, structural biology is also shifting its focus from determining static structures to exploring the dynamic aspects of protein function. A key tool for investigating these dynamics is mix-and-inject time-resolved crystallography (MISC)\, which has emerged as a transformative approach in drug discovery\, offering unprecedented insights into the dynamic processes of protein function. Traditional X-ray crystallography provides static snapshots of protein structures\, which\, while valuable\, do not capture the full complexity of molecular interactions and conformational changes critical to drug efficacy. MISC\, leveraging the capabilities of XFELs and advanced synchrotron sources\, allows researchers to observe proteins in action at atomic resolution and in real-time. This technique employs ultra-fast\, intense X-ray pulses to trigger and capture transient states and intermediates in biochemical reactions\, providing a dynamic view of protein-ligand interactions\, enzyme mechanisms\, and conformational changes. These insights are crucial for the rational design of drugs with improved specificity and efficacy. In this seminar\, I will introduce MISC at XFEL and synchrotron facilities\, as well as present some of the most recent results we have obtained in my group by applying this powerful technology to several biomedical research projects. \nFRIDAY\, 27th September 2024\, 12:30 h\nEdificio I+D (Conference room) \n 
URL:https://bifi.es/schedule/bifi-talk-jose-manuel-martin-garcia-del-instituto-blas-cabrera-csic-madrid/
LOCATION:Edificio Institutos I+D\, Mariano Esquillor\, 50018 Zaragoza\, Zaragoza\, Zaragoza\, 50018\, España
CATEGORIES:Events
END:VEVENT
END:VCALENDAR