BEGIN:VCALENDAR
VERSION:2.0
PRODID:-//BIFI -  - Institute for Biocomputation and Physics of Complex Systems - ECPv6.15.11//NONSGML v1.0//EN
CALSCALE:GREGORIAN
METHOD:PUBLISH
X-WR-CALNAME:BIFI -  - Institute for Biocomputation and Physics of Complex Systems
X-ORIGINAL-URL:https://bifi.es
X-WR-CALDESC:Events for BIFI -  - Institute for Biocomputation and Physics of Complex Systems
REFRESH-INTERVAL;VALUE=DURATION:PT1H
X-Robots-Tag:noindex
X-PUBLISHED-TTL:PT1H
BEGIN:VTIMEZONE
TZID:Europe/Madrid
BEGIN:DAYLIGHT
TZOFFSETFROM:+0100
TZOFFSETTO:+0200
TZNAME:CEST
DTSTART:20200329T010000
END:DAYLIGHT
BEGIN:STANDARD
TZOFFSETFROM:+0200
TZOFFSETTO:+0100
TZNAME:CET
DTSTART:20201025T010000
END:STANDARD
BEGIN:DAYLIGHT
TZOFFSETFROM:+0100
TZOFFSETTO:+0200
TZNAME:CEST
DTSTART:20210328T010000
END:DAYLIGHT
BEGIN:STANDARD
TZOFFSETFROM:+0200
TZOFFSETTO:+0100
TZNAME:CET
DTSTART:20211031T010000
END:STANDARD
BEGIN:DAYLIGHT
TZOFFSETFROM:+0100
TZOFFSETTO:+0200
TZNAME:CEST
DTSTART:20220327T010000
END:DAYLIGHT
BEGIN:STANDARD
TZOFFSETFROM:+0200
TZOFFSETTO:+0100
TZNAME:CET
DTSTART:20221030T010000
END:STANDARD
END:VTIMEZONE
BEGIN:VEVENT
DTSTART;TZID=Europe/Madrid:20210604T123000
DTEND;TZID=Europe/Madrid:20210604T143000
DTSTAMP:20260425T225918
CREATED:20210527T061633Z
LAST-MODIFIED:20210527T061633Z
UID:6440-1622809800-1622817000@bifi.es
SUMMARY:BIFI TALK: Dr. Sandro Meloni (CSIC-UIB)
DESCRIPTION:Title: Ecology of Online Social Systems \nAbstract \nOnline social networks have significantly changed global communication dynamics and\, in general\, the way we interact. Every day our brain is flooded by information coming from a plethora of sources and this cognitive bottleneck translates into hyper-competition for a scarce resource: our attention. This pressure\, in turn\, pushes information producers to mutualistically interact with specific memes and actors\, seeking the virality of their messages. Finally\, memes’ chances to persist and spread are subject to changes in the communication environment. The fact that all these terms — competition for resources\, mutualism and environmental changes– are\nreminiscent of another research field –ecology–\, suggests that\, at least at a coarse-grained level\, “information” ecosystems and natural ecosystems present strong similarities that can be exploited to understand their behavior.\nIn this talk\, building on these analogies\, I will show how theories and tools developed for the study of ecological communities help to gain insights on human behavior in online social interactions. In the first part\, I will introduce an analytical formalism –based on the neutral theory of ecology–\, capable of capturing the competition for attention and explaining several emergent patterns observed in information ecosystems. In the second part\, using both\ndata analysis and numerical modeling\, I will focus on the structure of information ecosystems showing that the underlying architecture of empirical actor-meme networks evolves towards self-similar nested arrangements like the ones found in natural mutualistic assemblages. \nmeloni_bifitalks2021 \nDIA Y HORA: 4 DE JUNIO A LAS 12:30\nONLINE: ZOOM Seminar\nSeminar Link: https://us02web.zoom.us/j/88679866793
URL:https://bifi.es/schedule/bifi-talk-dr-sandro-meloni-csic-uib/
CATEGORIES:Events
END:VEVENT
END:VCALENDAR