BEGIN:VCALENDAR
VERSION:2.0
PRODID:-//BIFI -  - Institute for Biocomputation and Physics of Complex Systems - ECPv6.15.11//NONSGML v1.0//EN
CALSCALE:GREGORIAN
METHOD:PUBLISH
X-WR-CALNAME:BIFI -  - Institute for Biocomputation and Physics of Complex Systems
X-ORIGINAL-URL:https://bifi.es/es/
X-WR-CALDESC:Eventos para BIFI -  - Institute for Biocomputation and Physics of Complex Systems
REFRESH-INTERVAL;VALUE=DURATION:PT1H
X-Robots-Tag:noindex
X-PUBLISHED-TTL:PT1H
BEGIN:VTIMEZONE
TZID:Europe/Madrid
BEGIN:DAYLIGHT
TZOFFSETFROM:+0100
TZOFFSETTO:+0200
TZNAME:CEST
DTSTART:20220327T010000
END:DAYLIGHT
BEGIN:STANDARD
TZOFFSETFROM:+0200
TZOFFSETTO:+0100
TZNAME:CET
DTSTART:20221030T010000
END:STANDARD
BEGIN:DAYLIGHT
TZOFFSETFROM:+0100
TZOFFSETTO:+0200
TZNAME:CEST
DTSTART:20230326T010000
END:DAYLIGHT
BEGIN:STANDARD
TZOFFSETFROM:+0200
TZOFFSETTO:+0100
TZNAME:CET
DTSTART:20231029T010000
END:STANDARD
BEGIN:DAYLIGHT
TZOFFSETFROM:+0100
TZOFFSETTO:+0200
TZNAME:CEST
DTSTART:20240331T010000
END:DAYLIGHT
BEGIN:STANDARD
TZOFFSETFROM:+0200
TZOFFSETTO:+0100
TZNAME:CET
DTSTART:20241027T010000
END:STANDARD
END:VTIMEZONE
BEGIN:VEVENT
DTSTART;TZID=Europe/Madrid:20230505T120000
DTEND;TZID=Europe/Madrid:20230505T140000
DTSTAMP:20260425T041349
CREATED:20230505T083951Z
LAST-MODIFIED:20230505T083951Z
UID:7317-1683288000-1683295200@bifi.es
SUMMARY:BIFI TALK: Alejandro Tejedor ( BIFI )
DESCRIPTION:Título: Connectivity as a tool to investigate hydro-geomorphic systems: A river delta case study. \nAbstract: \nConnectivity plays a crucial role in natural and engineered systems\, driving and resulting from various processes. For example\, sediment fluxes shape the landscape\, creating preferential paths for water and sediment transport\, ultimately leading to channelized flows that affect the system’s response to changing forcings. Research in geomorphic systems has focused on understanding the emergent connectivity structures and their impact on system dynamics. To this end\, network theory provides a suitable mathematical framework for quantitatively characterizing connectivity patterns. In this presentation\, I will use river deltas as a case study to demonstrate how an integrated approach\, combining network theory\, remote sensing\, and modeling tools\, can enhance our understanding of the structure and dynamics of geomorphic systems. Specifically\, I will showcase how analyzing river delta channel networks can help solve the inverse problem of inferring process from form\, classify and compare river deltas\, and predict their dynamic response to different forcing scenarios. \n  \nFRIDAY\, 5th DECEMBER 2023\, 12:00 h\nSalón de Actos: Edificio I+D
URL:https://bifi.es/es/schedule/bifi-talk-alejandro-tejedor-bifi/
LOCATION:Edificio Institutos I+D\, Mariano Esquillor\, 50018 Zaragoza\, Zaragoza\, Zaragoza\, 50018\, España
CATEGORIES:Eventos
END:VEVENT
END:VCALENDAR