BEGIN:VCALENDAR
VERSION:2.0
PRODID:-//BIFI -  - Institute for Biocomputation and Physics of Complex Systems - ECPv6.15.11//NONSGML v1.0//EN
CALSCALE:GREGORIAN
METHOD:PUBLISH
X-WR-CALNAME:BIFI -  - Institute for Biocomputation and Physics of Complex Systems
X-ORIGINAL-URL:https://bifi.es/es/
X-WR-CALDESC:Eventos para BIFI -  - Institute for Biocomputation and Physics of Complex Systems
REFRESH-INTERVAL;VALUE=DURATION:PT1H
X-Robots-Tag:noindex
X-PUBLISHED-TTL:PT1H
BEGIN:VTIMEZONE
TZID:Europe/Madrid
BEGIN:DAYLIGHT
TZOFFSETFROM:+0100
TZOFFSETTO:+0200
TZNAME:CEST
DTSTART:20220327T010000
END:DAYLIGHT
BEGIN:STANDARD
TZOFFSETFROM:+0200
TZOFFSETTO:+0100
TZNAME:CET
DTSTART:20221030T010000
END:STANDARD
BEGIN:DAYLIGHT
TZOFFSETFROM:+0100
TZOFFSETTO:+0200
TZNAME:CEST
DTSTART:20230326T010000
END:DAYLIGHT
BEGIN:STANDARD
TZOFFSETFROM:+0200
TZOFFSETTO:+0100
TZNAME:CET
DTSTART:20231029T010000
END:STANDARD
BEGIN:DAYLIGHT
TZOFFSETFROM:+0100
TZOFFSETTO:+0200
TZNAME:CEST
DTSTART:20240331T010000
END:DAYLIGHT
BEGIN:STANDARD
TZOFFSETFROM:+0200
TZOFFSETTO:+0100
TZNAME:CET
DTSTART:20241027T010000
END:STANDARD
END:VTIMEZONE
BEGIN:VEVENT
DTSTART;TZID=Europe/Madrid:20230510T100000
DTEND;TZID=Europe/Madrid:20230510T120000
DTSTAMP:20260425T041348
CREATED:20230505T082658Z
LAST-MODIFIED:20230505T082955Z
UID:7315-1683712800-1683720000@bifi.es
SUMMARY:II Ciclo de seminarios para jóvenes investigadores: Irene Oliván Muro
DESCRIPTION:«Biofilms en Anabaena sp. PCC7120: estudio de los factores que afectan a su desarrollo y regulación por proteínas FUR». IRENE OLIVÁN MURO \nMiércoles\, 10t de mayo de 2023 \n10:00-12:00 h \nAula del Edificio I+D
URL:https://bifi.es/es/schedule/ii-ciclo-de-seminarios-para-jovenes-investigadores-irene-olivan-muro/
LOCATION:Edificio Institutos I+D\, Mariano Esquillor\, 50018 Zaragoza\, Zaragoza\, Zaragoza\, 50018\, España
CATEGORIES:Eventos
END:VEVENT
END:VCALENDAR