BEGIN:VCALENDAR
VERSION:2.0
PRODID:-//BIFI -  - Institute for Biocomputation and Physics of Complex Systems - ECPv6.15.11//NONSGML v1.0//EN
CALSCALE:GREGORIAN
METHOD:PUBLISH
X-WR-CALNAME:BIFI -  - Institute for Biocomputation and Physics of Complex Systems
X-ORIGINAL-URL:https://bifi.es/es/
X-WR-CALDESC:Eventos para BIFI -  - Institute for Biocomputation and Physics of Complex Systems
REFRESH-INTERVAL;VALUE=DURATION:PT1H
X-Robots-Tag:noindex
X-PUBLISHED-TTL:PT1H
BEGIN:VTIMEZONE
TZID:Europe/Madrid
BEGIN:DAYLIGHT
TZOFFSETFROM:+0100
TZOFFSETTO:+0200
TZNAME:CEST
DTSTART:20230326T010000
END:DAYLIGHT
BEGIN:STANDARD
TZOFFSETFROM:+0200
TZOFFSETTO:+0100
TZNAME:CET
DTSTART:20231029T010000
END:STANDARD
BEGIN:DAYLIGHT
TZOFFSETFROM:+0100
TZOFFSETTO:+0200
TZNAME:CEST
DTSTART:20240331T010000
END:DAYLIGHT
BEGIN:STANDARD
TZOFFSETFROM:+0200
TZOFFSETTO:+0100
TZNAME:CET
DTSTART:20241027T010000
END:STANDARD
BEGIN:DAYLIGHT
TZOFFSETFROM:+0100
TZOFFSETTO:+0200
TZNAME:CEST
DTSTART:20250330T010000
END:DAYLIGHT
BEGIN:STANDARD
TZOFFSETFROM:+0200
TZOFFSETTO:+0100
TZNAME:CET
DTSTART:20251026T010000
END:STANDARD
END:VTIMEZONE
BEGIN:VEVENT
DTSTART;TZID=Europe/Madrid:20240322T123000
DTEND;TZID=Europe/Madrid:20240322T143000
DTSTAMP:20260424T153440
CREATED:20240308T060033Z
LAST-MODIFIED:20250314T110318Z
UID:8040-1711110600-1711117800@bifi.es
SUMMARY:Biophyzza Connection 2024
DESCRIPTION:El próximo 22 de Marzo a las 12:30 tendrá lugar una Jornada de divulgación científica en el Mercado Agroalimentario del Campus San Francisco (junto al estanque del campus\, C. Pedro Cerbuna\, 12) para dar visibilidad al área de conocimiento de la BIOFÍSICA. Esta jornada está adscrita a la Biophysics Week (https://www.biophysics.org/biophysics-week#/) que organiza anualmente la Biophysical Society de Estados Unidos con eventos en todo el mundo. \nLa Jornada consistirá en dos charlas divulgativas de dos investigadores del Instituto de Biocomputación y Física de Sistemas Complejos (BIFI)\, una sobre proteínas tóxicas involucradas en el desarrollo de enfermedades neurodegenerativas\, impartida por la Dra. Nunilo Cremades\, y otra sobre descubrimiento de fármacos usando microscopía electrónica\, impartida por el Dr. Javier García Nafría. Las charlas estarán amenizadas con pizza. \nNuestra sesión se realizará conjuntamente con otras en diferentes universidades españolas coordinadas desde la Sociedad de Biofísica de España (SBE\, http://www.sbe.es/) en una actividad nombrada ‘The Biophyzza Connection’ con el patrocinio de Domino´s Pizza. \nAdemás\, el evento cuenta con el apoyo del proyecto europeo ivBM-4PAP (ivBM-4PAP es un proyecto de investigación financiado por el Consejo Europeo de Innovación a través de su programa Horizon Europe Pathfinder con el acuerdo de subvención nº 101098989)\, cuyo IP es Nunilo Cremades. \n  \nOs esperamos!!!
URL:https://bifi.es/es/schedule/8040/
LOCATION:Campus San Francisco de la Universidad de Zaragoza
CATEGORIES:Eventos
END:VEVENT
END:VCALENDAR