BEGIN:VCALENDAR
VERSION:2.0
PRODID:-//BIFI -  - Institute for Biocomputation and Physics of Complex Systems - ECPv6.15.11//NONSGML v1.0//EN
CALSCALE:GREGORIAN
METHOD:PUBLISH
X-WR-CALNAME:BIFI -  - Institute for Biocomputation and Physics of Complex Systems
X-ORIGINAL-URL:https://bifi.es/es/
X-WR-CALDESC:Eventos para BIFI -  - Institute for Biocomputation and Physics of Complex Systems
REFRESH-INTERVAL;VALUE=DURATION:PT1H
X-Robots-Tag:noindex
X-PUBLISHED-TTL:PT1H
BEGIN:VTIMEZONE
TZID:Europe/Madrid
BEGIN:DAYLIGHT
TZOFFSETFROM:+0100
TZOFFSETTO:+0200
TZNAME:CEST
DTSTART:20240331T010000
END:DAYLIGHT
BEGIN:STANDARD
TZOFFSETFROM:+0200
TZOFFSETTO:+0100
TZNAME:CET
DTSTART:20241027T010000
END:STANDARD
BEGIN:DAYLIGHT
TZOFFSETFROM:+0100
TZOFFSETTO:+0200
TZNAME:CEST
DTSTART:20250330T010000
END:DAYLIGHT
BEGIN:STANDARD
TZOFFSETFROM:+0200
TZOFFSETTO:+0100
TZNAME:CET
DTSTART:20251026T010000
END:STANDARD
BEGIN:DAYLIGHT
TZOFFSETFROM:+0100
TZOFFSETTO:+0200
TZNAME:CEST
DTSTART:20260329T010000
END:DAYLIGHT
BEGIN:STANDARD
TZOFFSETFROM:+0200
TZOFFSETTO:+0100
TZNAME:CET
DTSTART:20261025T010000
END:STANDARD
END:VTIMEZONE
BEGIN:VEVENT
DTSTART;TZID=Europe/Madrid:20250115T080000
DTEND;TZID=Europe/Madrid:20250117T210000
DTSTAMP:20260421T225059
CREATED:20241125T115608Z
LAST-MODIFIED:20241125T120135Z
UID:8425-1736928000-1737147600@bifi.es
SUMMARY:XII Congreso Nacional BIFI 2025
DESCRIPTION:XII Congreso Nacional BIFI 2025 \nEl XII Congreso Nacional BIFI 2025\, organizado por el Instituto de Biocomputación y Física de Sistemas Complejos de la Universidad de Zaragoza\, proporciona una ocasión única para que los participantes compartan sus últimos descubrimientos en los diversos campos de investigación del Instituto: desde Física y Computación a Biofísica\, Bioquímica y Biología Celular y Molecular. \nEn esta ocasión\, la conferencia se celebrará en las instalaciones del instituto\, en el edificio I+D del Campus Río Ebro de la Universidad de Zaragoza\, del 15 al 17 de enero de 2025. \nComo en ediciones anteriores de las Conferencias Nacionales del BIFI\, consideramos este encuentro como una ocasión importante para fortalecer nuestras colaboraciones\, fomentar nuevas conexiones y avanzar colectivamente en nuestra investigación. Animamos encarecidamente a todos los miembros del BIFI\, especialmente a los que se encuentran en las primeras fases de su carrera\, a participar y enviar sus contribuciones. \nMás información https://bifi25.bifi.es/ \nTEMAS PRINCIPALES: \nBioquímica\, Biología Molecular y Celular\nFísica\nBiofísica\nComputación \nFECHAS IMPORTANTES \nFechas de la Conferencia: Del 15 al 17 de enero de 2025.\nFecha límite de inscripción: 13 de diciembre de 2024.\nFecha límite para el envío de resúmenes: 13 de diciembre de 2024. \nLUGAR \nSala de Conferencias\, Edificio I+D\, Campus Río Ebro. \nPATROCINADORES \nTraducción realizada con la versión gratuita del traductor DeepL.com
URL:https://bifi.es/es/schedule/xii-congreso-nacional-bifi-2025/
LOCATION:Edificio Institutos I+D\, Mariano Esquillor\, 50018 Zaragoza\, Zaragoza\, Zaragoza\, 50018\, España
CATEGORIES:Congresos
END:VEVENT
END:VCALENDAR