BEGIN:VCALENDAR
VERSION:2.0
PRODID:-//BIFI -  - Institute for Biocomputation and Physics of Complex Systems - ECPv6.15.11//NONSGML v1.0//EN
CALSCALE:GREGORIAN
METHOD:PUBLISH
X-ORIGINAL-URL:https://bifi.es/es/
X-WR-CALDESC:Eventos para BIFI -  - Institute for Biocomputation and Physics of Complex Systems
REFRESH-INTERVAL;VALUE=DURATION:PT1H
X-Robots-Tag:noindex
X-PUBLISHED-TTL:PT1H
BEGIN:VTIMEZONE
TZID:Europe/Madrid
BEGIN:DAYLIGHT
TZOFFSETFROM:+0100
TZOFFSETTO:+0200
TZNAME:CEST
DTSTART:20240331T010000
END:DAYLIGHT
BEGIN:STANDARD
TZOFFSETFROM:+0200
TZOFFSETTO:+0100
TZNAME:CET
DTSTART:20241027T010000
END:STANDARD
BEGIN:DAYLIGHT
TZOFFSETFROM:+0100
TZOFFSETTO:+0200
TZNAME:CEST
DTSTART:20250330T010000
END:DAYLIGHT
BEGIN:STANDARD
TZOFFSETFROM:+0200
TZOFFSETTO:+0100
TZNAME:CET
DTSTART:20251026T010000
END:STANDARD
BEGIN:DAYLIGHT
TZOFFSETFROM:+0100
TZOFFSETTO:+0200
TZNAME:CEST
DTSTART:20260329T010000
END:DAYLIGHT
BEGIN:STANDARD
TZOFFSETFROM:+0200
TZOFFSETTO:+0100
TZNAME:CET
DTSTART:20261025T010000
END:STANDARD
END:VTIMEZONE
BEGIN:VEVENT
DTSTART;TZID=Europe/Madrid:20250404T113000
DTEND;TZID=Europe/Madrid:20250404T140000
DTSTAMP:20260421T190457
CREATED:20250314T112717Z
LAST-MODIFIED:20250314T113247Z
UID:8562-1743766200-1743775200@bifi.es
SUMMARY:Biophyzza Connection 2025
DESCRIPTION:El próximo 4 de abril de 2025\, en horario de 12-14 h tendrá lugar una Jornada de divulgación científica en el Mercado Agroalimentario del Campus San Francisco (junto al estanque del campus\, C. Pedro Cerbuna\, 12) para dar visibilidad al área de conocimiento de la BIOFÍSICA. Se dispondrá de una carpa en la que se impartirán dos charlas divulgativas sobre Biofísica a la vez que habrá pizza gratis a cargo de Domino´s pizza. Los ponentes que participarán son dos importantes investigadores: Jesús Gómez-Gardeñes (BIFI-UZ) e Inmacula Yruela (Estación Experimental Aula Dei – CSIC). Puedes ver el cartel en el siguiente link. \nEste evento se enmarca dentro de la Semana de la Biofísica (https://www.biophysics.org/biophysics-week#/) donde se organizan actividades sobre este campo a nivel mundial. En España la Sociedad de Biofísica de España coordina el evento Biophyzza Connection que se celebra en España desde hace dos años en muchas ciudades españolas a la vez y es patrocinada por Dominos pizza. \nEn Zaragoza será su segunda edición\, como la anterior\, promovida por la investigadora del BIFI Nunilo Cremades Casasín. \n¡El año pasado fuimos el segundo país con más actividades sobre la biofísica del Mundo! Y este año no puede ser menos. \nOs esperamos el día 4 de abril en la carpa del Mercado Agroalimentario del Campus San Francisco!!! \n 
URL:https://bifi.es/es/schedule/biophyzza-connection-2025/
LOCATION:Campus San Francisco de la Universidad de Zaragoza
CATEGORIES:Eventos
END:VEVENT
END:VCALENDAR