BEGIN:VCALENDAR
VERSION:2.0
PRODID:-//BIFI -  - Institute for Biocomputation and Physics of Complex Systems - ECPv6.15.11//NONSGML v1.0//EN
CALSCALE:GREGORIAN
METHOD:PUBLISH
X-ORIGINAL-URL:https://bifi.es/es/
X-WR-CALDESC:Eventos para BIFI -  - Institute for Biocomputation and Physics of Complex Systems
REFRESH-INTERVAL;VALUE=DURATION:PT1H
X-Robots-Tag:noindex
X-PUBLISHED-TTL:PT1H
BEGIN:VTIMEZONE
TZID:Europe/Madrid
BEGIN:DAYLIGHT
TZOFFSETFROM:+0100
TZOFFSETTO:+0200
TZNAME:CEST
DTSTART:20190331T010000
END:DAYLIGHT
BEGIN:STANDARD
TZOFFSETFROM:+0200
TZOFFSETTO:+0100
TZNAME:CET
DTSTART:20191027T010000
END:STANDARD
BEGIN:DAYLIGHT
TZOFFSETFROM:+0100
TZOFFSETTO:+0200
TZNAME:CEST
DTSTART:20200329T010000
END:DAYLIGHT
BEGIN:STANDARD
TZOFFSETFROM:+0200
TZOFFSETTO:+0100
TZNAME:CET
DTSTART:20201025T010000
END:STANDARD
BEGIN:DAYLIGHT
TZOFFSETFROM:+0100
TZOFFSETTO:+0200
TZNAME:CEST
DTSTART:20210328T010000
END:DAYLIGHT
BEGIN:STANDARD
TZOFFSETFROM:+0200
TZOFFSETTO:+0100
TZNAME:CET
DTSTART:20211031T010000
END:STANDARD
END:VTIMEZONE
BEGIN:VEVENT
DTSTART;TZID=Europe/Madrid:20200203T100000
DTEND;TZID=Europe/Madrid:20200205T130000
DTSTAMP:20260426T023701
CREATED:20191029T111444Z
LAST-MODIFIED:20191029T111444Z
UID:5373-1580724000-1580907600@bifi.es
SUMMARY:IX Conferencia Internacional BIFI 2020
DESCRIPTION:La IX Conferencia Internacional BIFI 2020 tendrá lugar en Zaragoza\, en el salón de actos del Edificio I+D\, Campus Río Ebro (Actur)\, del 3 al 5 de febrero del año próximo 2020. \nEn esta ocasión (la conferencia) está enfocada en “Nuevos retos en Biotecnología Molecular (New Challenges in Molecular Biotechnology). Así\, hemos preparado un programa científico con oradores invitados nacionales e internacionales que creemos que es muy atractivo. El formato del evento incluye sesiones plenarias con 18 charlas\, 5 de las cuales serán impartidas por prominentes investigadores que realizan su investigación en reconocidos centros como el Instituto Pasteur de Paris\, la Unidad de Biología Mitocondrial de Cambridge\, la Estación Experimental de Aula Dei (CSIC) de Zaragoza\, el Instituto Rocasolano de Madrid\, y el Laboratorio de Sistemas Bioquímicos (CIB-CSIC)\, también de Madrid. Nueve de los trabajos inscritos serán elegidos para impartir charlas cortas de 12 min (+3 de preguntas) y se han programado dos sesiones para la presentación de pósters de los cuales serán premiados dos con las cantidades de 300€ (Primer premio) y 200€ (Segundo premio). \nInvitamos cordialmente a los investigadores jóvenes y a aquellos no tan jóvenes\, también a estudiantes\, a asistir a esta nueva edición de nuestra Conferencia bienual y a enviar comunicaciones científicas relacionadas con los temas principales del evento. Queremos en este marco brindaros la oportunidad de difundir vuestro trabajo y de poder crear y/o fortalecer nuevas colaboraciones científicas. \nLos plazos de inscripción son: 20 de diciembre (Early) y 10 de enero (Late)\, con diferentes importes de las cuotas de inscripción (vea las diferentes opciones en el sitio del evento). La notificación por parte del Comité Organizador a aquellos cuyos trabajos resultasen elegidos para impartir charlas cortas se realizará como muy tarde el día 17 de enero de 2020. \nEn el sitio web del evento (http://bifi20.bifi.es/) podrás encontrar toda la información necesaria para inscribirte\, así como el Programa Científico\, elementos importantes sobre nuestro Instituto (el lugar de celebración de la Conferencia)\, la ciudad de Zaragoza y más. \nSi estás interesado/a en asistir\, por favor regístrate cuanto antes.\nDesde ya os damos la bienvenida en Zaragoza. \nEl Comité Organizador
URL:https://bifi.es/es/schedule/ix-conferencia-internacional-bifi-2020/
CATEGORIES:Congresos
END:VEVENT
BEGIN:VEVENT
DTSTART;TZID=Europe/Madrid:20200210T123000
DTEND;TZID=Europe/Madrid:20200210T123000
DTSTAMP:20260426T023701
CREATED:20200128T095106Z
LAST-MODIFIED:20200128T095137Z
UID:5500-1581337800-1581337800@bifi.es
SUMMARY:BIFI TALK. Fabio Dercole
DESCRIPTION:Title: Direct reciprocity and model-predictive strategy update explain the network reciprocity observed in socio-economic networks \nSpeaker: Fabio Dercole \nAbstract:\nNetwork reciprocity has been successfully put forward (since M.A. Nowak & R. May’s\, 1992\, influential paper) as the simplest mechanism — requiring no strategical complexity — supporting the evolution of cooperation in biological and socio-economic systems. The mechanism is actually the network\, that makes agents’ interactions localized\, while network reciprocity is the property of the underlying evolutionary process of favoring cooperation in sparse rather than dense networks. In theoretical models\, the property holds under imitative evolutionary processes\, that however lack rationality in the socio-economic context\, whereas cooperation disappears in any network if imitation is replaced by the more rational best-response rule of strategy update. In social experiments\, network reciprocity has been observed\, though the imitative behavior did not emerge. What did emerge is a form of conditional cooperation based on direct reciprocity—the propensity to cooperate with neighbors who previously cooperated. To resolve this inconsistency\, we show network reciprocity in a model that\nrationally confronts the two main behaviors emerging in experiments — reciprocal cooperation and unconditional defection — with rationality introduced by means of a multi-step model-predictive rule for strategy update. \nSala de Conferencias\, Edif. I+D\, Campus Rio Ebro\nLUNES 10 de FEBRERO a las 12:30h
URL:https://bifi.es/es/schedule/bifi-talk-fabio-dercole/
CATEGORIES:Eventos
END:VEVENT
BEGIN:VEVENT
DTSTART;TZID=Europe/Madrid:20200228T080000
DTEND;TZID=Europe/Madrid:20200229T170000
DTSTAMP:20260426T023701
CREATED:20200108T122810Z
LAST-MODIFIED:20200109T142718Z
UID:5438-1582876800-1582995600@bifi.es
SUMMARY:CURSO DE INVIERNO DE LA UNIVERSIDAD DE ZARAGOZA Nuevas perspectivas en la evolución de los genes y proteínas / Advances in Genome and Protein Evolution 28-29 de Febrero en Jaca (Huesca)
DESCRIPTION:Abierta la Inscripción del CURSO DE INVIERNO DE LA UNIVERSIDAD DE ZARAGOZA Nuevas perspectivas en la evolución de los genes y proteínas / Advances in Genome and Protein Evolution 28-29 de Febrero en Jaca (Huesca)  en https://cursosextraordinarios.unizar.es/cursos-invierno \nLas personas interesadas en pedir una ayuda económica para asistir a dicho curso deben inscribirse ahora pero NO pagar la matrícula de momento.  Para solicitar la ayuda deberán escribir a i.yruela@csic.es y mmartine@unizar.es adjuntado un breve CV. El plazo límite para pedir esta ayuda es el 28 de Enero de 2020. \nINFORMACIÓN CURSO\nDirección: Inmaculada Yruela y Marta Martínez Júlvez \nPonentes y sesiones: \nPilar Catalán\, Universidad de Zaragoza    \n-Phylogenetic concepts. Organismal phylogenetic reconstruction and evolutionary speciation events\n-Phylogenetic methods. From distance-based methods to the coalescent approach\n\nInmaculada Yruela\, CSIC\, Zaragoza \n-Introduction to sequence analysis and protein phylogeny \nToni Gabaldón\, Supercomputing Centre (BSC-CNS) and Institute for Research in Biomedicine (IRB)\, Barcelona\n-Homology\, orthology and paralogy\n-Comparative genomics and phylogenomics\n\nUgo Bastolla\, Centro de Biología Molecular Severo Ochoa (UAM-CSIC)\, Madrid\n–Detecting selection on protein structure and protein folding stability\n-Substitution processes with selection on protein structure and protein folding stability \nLeandro Radutsky\, Centro de Regulación Genómica (CRG)\, Barcelona\n-Structural bioinformatics for the analysis of protein mutations with focus on disease and evolution \nDirigido a: Estudiantes de los últimos cursos de los grados en Química\, Biología\, Física\, Farmacia\, Medicina\, Bioquímica\, Biotecnología\, Veterinaria. Estudiantes de másteres de Química Molecular\, Bioquímica\, Biología Molecular y Celular\, Biomedicina\, Biotecnología. Estudiantes de doctorado. Profesionales en activo en cualquiera de las áreas de conocimiento y especialidades anteriormente enumeradas. \nEste curso tiene reconocidos 0\,5 ECTS como Formación Permanente de Profesorado
URL:https://bifi.es/es/schedule/curso-de-invierno-de-la-universidad-de-zaragoza-nuevas-perspectivas-en-la-evolucion-de-los-genes-y-proteinas-advances-in-genome-and-protein-evolution-28-29-de-febrero-en-jaca-huesca/
CATEGORIES:Eventos
END:VEVENT
END:VCALENDAR