BEGIN:VCALENDAR
VERSION:2.0
PRODID:-//BIFI -  - Institute for Biocomputation and Physics of Complex Systems - ECPv6.15.11//NONSGML v1.0//EN
CALSCALE:GREGORIAN
METHOD:PUBLISH
X-WR-CALNAME:BIFI -  - Institute for Biocomputation and Physics of Complex Systems
X-ORIGINAL-URL:https://bifi.es/es/
X-WR-CALDESC:Eventos para BIFI -  - Institute for Biocomputation and Physics of Complex Systems
REFRESH-INTERVAL;VALUE=DURATION:PT1H
X-Robots-Tag:noindex
X-PUBLISHED-TTL:PT1H
BEGIN:VTIMEZONE
TZID:Europe/Madrid
BEGIN:DAYLIGHT
TZOFFSETFROM:+0100
TZOFFSETTO:+0200
TZNAME:CEST
DTSTART:20230326T010000
END:DAYLIGHT
BEGIN:STANDARD
TZOFFSETFROM:+0200
TZOFFSETTO:+0100
TZNAME:CET
DTSTART:20231029T010000
END:STANDARD
BEGIN:DAYLIGHT
TZOFFSETFROM:+0100
TZOFFSETTO:+0200
TZNAME:CEST
DTSTART:20240331T010000
END:DAYLIGHT
BEGIN:STANDARD
TZOFFSETFROM:+0200
TZOFFSETTO:+0100
TZNAME:CET
DTSTART:20241027T010000
END:STANDARD
BEGIN:DAYLIGHT
TZOFFSETFROM:+0100
TZOFFSETTO:+0200
TZNAME:CEST
DTSTART:20250330T010000
END:DAYLIGHT
BEGIN:STANDARD
TZOFFSETFROM:+0200
TZOFFSETTO:+0100
TZNAME:CET
DTSTART:20251026T010000
END:STANDARD
END:VTIMEZONE
BEGIN:VEVENT
DTSTART;TZID=Europe/Madrid:20240207T100000
DTEND;TZID=Europe/Madrid:20240207T120000
DTSTAMP:20260424T153944
CREATED:20240124T073711Z
LAST-MODIFIED:20240124T073849Z
UID:7986-1707300000-1707307200@bifi.es
SUMMARY:III Ciclo de seminarios de jóvenes investigadores: Miguel Campos
DESCRIPTION:Miguel Campos\, Bioflora\, Escuela Politécnica Superior\, Huesca \nGenómica comparada y funcional: un abordaje integral para comprender la evolución del complejo anual Brachypodium \nWednesday\, 7 th February \, 10 h\nSala de conferencias. Edificio I+D\, Mariano Esquillor S/N. \n 
URL:https://bifi.es/es/schedule/ii-cycle-of-young-researcher-seminars-miguel-campos/
LOCATION:Edificio Institutos I+D\, Mariano Esquillor\, 50018 Zaragoza\, Zaragoza\, Zaragoza\, 50018\, España
CATEGORIES:Eventos
END:VEVENT
END:VCALENDAR