BEGIN:VCALENDAR
VERSION:2.0
PRODID:-//BIFI -  - Institute for Biocomputation and Physics of Complex Systems - ECPv6.15.11//NONSGML v1.0//EN
CALSCALE:GREGORIAN
METHOD:PUBLISH
X-ORIGINAL-URL:https://bifi.es/es/
X-WR-CALDESC:Eventos para BIFI -  - Institute for Biocomputation and Physics of Complex Systems
REFRESH-INTERVAL;VALUE=DURATION:PT1H
X-Robots-Tag:noindex
X-PUBLISHED-TTL:PT1H
BEGIN:VTIMEZONE
TZID:Europe/Madrid
BEGIN:DAYLIGHT
TZOFFSETFROM:+0100
TZOFFSETTO:+0200
TZNAME:CEST
DTSTART:20230326T010000
END:DAYLIGHT
BEGIN:STANDARD
TZOFFSETFROM:+0200
TZOFFSETTO:+0100
TZNAME:CET
DTSTART:20231029T010000
END:STANDARD
BEGIN:DAYLIGHT
TZOFFSETFROM:+0100
TZOFFSETTO:+0200
TZNAME:CEST
DTSTART:20240331T010000
END:DAYLIGHT
BEGIN:STANDARD
TZOFFSETFROM:+0200
TZOFFSETTO:+0100
TZNAME:CET
DTSTART:20241027T010000
END:STANDARD
BEGIN:DAYLIGHT
TZOFFSETFROM:+0100
TZOFFSETTO:+0200
TZNAME:CEST
DTSTART:20250330T010000
END:DAYLIGHT
BEGIN:STANDARD
TZOFFSETFROM:+0200
TZOFFSETTO:+0100
TZNAME:CET
DTSTART:20251026T010000
END:STANDARD
END:VTIMEZONE
BEGIN:VEVENT
DTSTART;TZID=Europe/Madrid:20241122T123000
DTEND;TZID=Europe/Madrid:20241122T140000
DTSTAMP:20260422T000019
CREATED:20241119T122351Z
LAST-MODIFIED:20241125T102709Z
UID:8391-1732278600-1732284000@bifi.es
SUMMARY:BIFI TALK: Ariadna Pié Porta\, Department of Chemical and Biochemical Engineering\, Technical University of Denmark
DESCRIPTION:BIFI TALK: Ariadna Pié Porta\, Department of Chemical and Biochemical Engineering\, Technical University of Denmark \nTitle:Oxidases and their Michaels Constant for Oxygen: Relevance and Measurement \nAbstract \nMedicine has benefited from the great features of enzymes for many years. During the past decades\, the interest in the application of enzymes as (bio)catalysts to produce a wide range of valuable compounds has increased. In particular\, oxidative reactions are crucial in many synthetic processes for the production of a wide range of chemicals. Oxidative biocatalysis has a number of pros and cons regarding the need of a constant supply of oxygen\, which affect kinetics and stability. Often\, oxidative biocatalytic processes tend to become oxygen limited. Not only oxygen is a rather hydrophobic molecule (the maximum concentration of oxygen dissolved in water in equilibrium with air is 250 µM)\, but also industrially-relevant enzymes tend to have a rather high Michaelis constant for oxygen (KMO). This is\, considering oxygen a secondary substrate in the reaction\, enzymes reach only low reaction rates even at the maximum concentration of dissolved oxygen in the media. On one hand\, oxygen limitation reduces the rate of the reaction in an industrial perspective\, and on the other hand\, prevents scientists from measuring and calculating the correct and absolute KM for any oxygen-related enzyme that does not reach its maximum rate of reaction. To address this issue\, we present the Tube-in-Tube Reactor Setup1. The Tube-in-Tube Reactor Setup is a novel tool that allows the saturation of virtually any enzyme with oxygen in order to determine its absolute KMO. \nReferences: Ringborg\, R. H.; Toftgaard Pedersen\, A.; Woodley\, J. M. Automated Determination of Oxygen-Dependent Enzyme Kinetics in a Tube-in-Tube Flow Reactor. ChemCatChem 2017\, 9 (17)\, 3285–3288. https://doi.org/10.1002/cctc.201700811. \nFRIDAY\, 22 November 2024\, 12:30 h\nSala de grados Grados de la Facultad de Ciencias (edificio A)
URL:https://bifi.es/es/schedule/bifi-talk-ariadna-pie-porta-department-of-chemical-and-biochemical-engineering-technical-university-of-denmark/
LOCATION:Salón de Grados\, Facultad de Ciencias
CATEGORIES:Eventos
END:VEVENT
BEGIN:VEVENT
DTSTART;TZID=Europe/Madrid:20241129T123000
DTEND;TZID=Europe/Madrid:20241129T140000
DTSTAMP:20260422T000019
CREATED:20241125T102556Z
LAST-MODIFIED:20241125T102556Z
UID:8415-1732883400-1732888800@bifi.es
SUMMARY:BIFI TALK: Francisco Ciruela\, Universidad de Barcelona e Institut d’Investigació Biomèdica de Bellvitge
DESCRIPTION:BIFI TALK: Francisco Ciruela\, Pharmacology Unit\, Department of Pathology and Experimental Therapeutics\, School of Medicine and Health Sciences\, Institute of Neurosciences\, University of Barcelona\, 08907 L’Hospitalet de Llobregat\, Spain. \nNeuropharmacology and Pain Group\, Neuroscience Program\, Institut d’Investigació Biomèdica de Bellvitge\, IDIBELL\, 08907 L’Hospitalet de Llobregat\, Spain.\nTitle: Adenosine receptor heteromers: biasing antipsychotics \nAbstract \nThe striatal dopamine D2 receptor (D2R) is generally accepted to be involved in positive symptoms of schizophrenia and is a main target for clinically used antipsychotic drugs (APDs). In fact\, D2R is highly expressed in the striatum\, where they form heteromers with the adenosine A2A receptor\n(A2AR). Changes in the density of A2AR-D2R heteromers have been reported in postmortem tissuefrom patients with schizophrenia\,1 but the degree to which A2AR are involved in schizophrenia and the effect on antipsychotic drugs is unknown. Therefore\, we first assessed the impact of A2AR expression on psychotic-like behaviour and dopaminergic transmission in mice. Interestingly\, mice lacking A2AR showed behavioural alterations related to cognitive impairment\, anxiety\, and anhedonia. In addition\, these animals have altered sensorimotor gating. These behavioural alterations are compatible with a psychotic-like phenotype. Importantly\, while total adenosine levels in the striatum of the A2AR -/- mouse are increased\, total dopamine was unaltered. However\, alterations in dopamine release were observed in the open field arena in the A2AR -/- mouse. Next\, we examine the effect of exposure of different prototypical APDs on A2AR-D2R heteromerization in mammalian cells using a NanoBiT assay. Interestingly\, clozapine\, but not haloperidol or aripiprazole\, was associated with a significant decrease in A2AR-D2R heteromerization after 2 h of treatment. Computational binding models of these compounds revealed distinctive molecular signatures that explain their different influence on heteromerization. The bulky tricyclic moiety of clozapine displaces TM 5 of D2R\, inducing a clash with A2AR\, while the extended binding mode of haloperidol and aripiprazole stabilizes a specific conformation of the second extracellular loop of D2R that improves the interaction with A2AR.2 Finally\, we evaluated the heteromerization capacity of the genetic variants of the D2R gene associated with schizophrenia.3 While the ICL2-based D2R schizophrenia associated genetic variants did not affect receptor’s heteromerization with A2AR\, the R150H located at the TM4 stabilizes the D2R-A2AR heteromer. Interestingly\, aripiprazole showed reduced efficacy in stabilizing D2R-A2AR heteromers containing the genetic variant D2R-R150H\, compared to haloperidol\, suggesting a differential impact of D2R schizophrenia associated genetic variants in antipsychotic treatments. Overall\, there exists a clinical need for the development of mechanistically novel and more efficacious APDs\, thus understanding the impact of D2R-A2AR heteromer formation on D2R downstream signalling will certainly contribute to the development of such novel APDs.\n\nReferences\n1. Valle-León\, M. et al. Decreased striatal adenosine A2A-dopamine D2 receptor heteromerization in schizophrenia. Neuropsychopharmacology 46\, 665–672 (2021).\n2. Valle-León\, M. et al. Unique effect of clozapine on adenosine A2A-dopamine D2 receptor heteromerization. Biomed Pharmacother 160\, (2023).\n3. Valle-León\, M. et al. Insights of schizophrenia-associated dopamine D2 receptor variants: eƯects on antipsychotic-mediated modulation of receptor heteromerization. Transl Psychiatry In preparation\,(2024).\n\nFRIDAY\, 29 November 2024\, 12:30 h\nAULA del edificio I+D
URL:https://bifi.es/es/schedule/bifi-talk-francisco-ciruela-universidad-de-barcelona-e-institut-dinvestigacio-biomedica-de-bellvitge/
LOCATION:Edificio Institutos I+D\, Mariano Esquillor\, 50018 Zaragoza\, Zaragoza\, Zaragoza\, 50018\, España
CATEGORIES:Eventos
END:VEVENT
END:VCALENDAR